BEGIN:VCALENDAR
VERSION:2.0
PRODID:-//gdhub - ECPv6.3.4//NONSGML v1.0//EN
CALSCALE:GREGORIAN
METHOD:PUBLISH
X-WR-CALNAME:gdhub
X-ORIGINAL-URL:https://gdhub.org
X-WR-CALDESC:Events for gdhub
REFRESH-INTERVAL;VALUE=DURATION:PT1H
X-Robots-Tag:noindex
X-PUBLISHED-TTL:PT1H
BEGIN:VTIMEZONE
TZID:Europe/Paris
BEGIN:DAYLIGHT
TZOFFSETFROM:+0100
TZOFFSETTO:+0200
TZNAME:CEST
DTSTART:20240331T010000
END:DAYLIGHT
BEGIN:STANDARD
TZOFFSETFROM:+0200
TZOFFSETTO:+0100
TZNAME:CET
DTSTART:20241027T010000
END:STANDARD
END:VTIMEZONE
BEGIN:VEVENT
DTSTART;VALUE=DATE:20240409
DTEND;VALUE=DATE:20240412
DTSTAMP:20260426T000141
CREATED:20240112T115607Z
LAST-MODIFIED:20240112T115607Z
UID:32436-1712620800-1712879999@gdhub.org
SUMMARY:DMEA 2024 Connecting Digital Health
DESCRIPTION:As one of Europe’s most important digital health conferences and trade fairs\, DMEA offers a wide range of opportunities for intensive exchange\, targeted networking\, and effective customer acquisition. \nAttendees include health-tech innovators\, project managers\, executive leaders\, physicians\, and others. \nAttendees can expect to gain access to more than 300 inspiring keynotes\, practical lectures\, and discussion panels by and with experts from politics\, self-administration\, business\, and science. Take part in a comprehensive exhibition with over 700 national and international digital health exhibitors\, country representatives\, start-ups\, and founders.
URL:https://gdhub.org/event/dmea-2024-connecting-digital-health/
LOCATION:MesseBerlin\, Berlin\, Germany
CATEGORIES:In-Person
ATTACH;FMTTYPE=image/png:https://gdhub.org/wp-content/uploads/2024/01/Screenshot-2024-01-11-at-17.20.46.png
END:VEVENT
END:VCALENDAR