BEGIN:VCALENDAR
VERSION:2.0
PRODID:-//gdhub - ECPv6.3.4//NONSGML v1.0//EN
CALSCALE:GREGORIAN
METHOD:PUBLISH
X-ORIGINAL-URL:https://gdhub.org
X-WR-CALDESC:Events for gdhub
REFRESH-INTERVAL;VALUE=DURATION:PT1H
X-Robots-Tag:noindex
X-PUBLISHED-TTL:PT1H
BEGIN:VTIMEZONE
TZID:Europe/Paris
BEGIN:DAYLIGHT
TZOFFSETFROM:+0100
TZOFFSETTO:+0200
TZNAME:CEST
DTSTART:20240331T010000
END:DAYLIGHT
BEGIN:STANDARD
TZOFFSETFROM:+0200
TZOFFSETTO:+0100
TZNAME:CET
DTSTART:20241027T010000
END:STANDARD
END:VTIMEZONE
BEGIN:VEVENT
DTSTART;VALUE=DATE:20240527
DTEND;VALUE=DATE:20240602
DTSTAMP:20260425T185752
CREATED:20240110T140721Z
LAST-MODIFIED:20240110T145139Z
UID:32398-1716768000-1717286399@gdhub.org
SUMMARY:77th World Health Assembly
DESCRIPTION:The World Health Assembly is the decision-making body of WHO. It is attended by delegations from all WHO Member States and focuses on a specific health agenda prepared by the Executive Board. The main functions of the World Health Assembly are to determine the policies of the Organization\, appoint the Director-General\, supervise financial policies\, and review and approve the proposed programme budget. The Health Assembly is held annually in Geneva\, Switzerland.
URL:https://gdhub.org/event/77th-world-health-assembly/
LOCATION:WHO\, Geneva\, Switzerland
CATEGORIES:In-Person
ATTACH;FMTTYPE=image/png:https://gdhub.org/wp-content/uploads/2024/01/Newsletter_WHA.png
END:VEVENT
BEGIN:VEVENT
DTSTART;VALUE=DATE:20240530
DTEND;VALUE=DATE:20240531
DTSTAMP:20260425T185752
CREATED:20240109T102622Z
LAST-MODIFIED:20240110T145046Z
UID:30884-1717027200-1717113599@gdhub.org
SUMMARY:Geneva Digital Health Day
DESCRIPTION:We are pleased to announce that the gdhub will be partnering with the Geneva Health Forum\, which is taking place on the sidelines of the World Health Assembly in Geneva\, and is calling for submissions to the Geneva Digital Health Day. \nThe forum will take place at Campus Biotech and will provide a unique platform for healthcare professionals\, innovators\, policy makers and academics to share insights\, experiences and solutions in the field of digital health. The Geneva Digital Health Day (Thursday 30 May) will be fully dedicated to digital health\, but there will also be sessions on digital health during the other days.
URL:https://gdhub.org/event/geneva-digital-health-day/
LOCATION:Campus Biotech\, Chemin des Mines 9\, Geneva\, 1202\, Switzerland
CATEGORIES:In-Person
ATTACH;FMTTYPE=image/png:https://gdhub.org/wp-content/uploads/2024/01/Screenshot-2023-12-15-at-12.11.52.png
END:VEVENT
END:VCALENDAR