BEGIN:VCALENDAR
VERSION:2.0
PRODID:-//gdhub - ECPv6.3.4//NONSGML v1.0//EN
CALSCALE:GREGORIAN
METHOD:PUBLISH
X-WR-CALNAME:gdhub
X-ORIGINAL-URL:https://gdhub.org
X-WR-CALDESC:Events for gdhub
REFRESH-INTERVAL;VALUE=DURATION:PT1H
X-Robots-Tag:noindex
X-PUBLISHED-TTL:PT1H
BEGIN:VTIMEZONE
TZID:Europe/Paris
BEGIN:DAYLIGHT
TZOFFSETFROM:+0100
TZOFFSETTO:+0200
TZNAME:CEST
DTSTART:20240331T010000
END:DAYLIGHT
BEGIN:STANDARD
TZOFFSETFROM:+0200
TZOFFSETTO:+0100
TZNAME:CET
DTSTART:20241027T010000
END:STANDARD
END:VTIMEZONE
BEGIN:VEVENT
DTSTART;VALUE=DATE:20240605
DTEND;VALUE=DATE:20240607
DTSTAMP:20260425T170732
CREATED:20240112T132724Z
LAST-MODIFIED:20240112T132724Z
UID:32459-1717545600-1717718399@gdhub.org
SUMMARY:Bits & Pretzels HealthTech Conference
DESCRIPTION:This conference brings together pharma and tech giants\, MedTech professionals\, and policymakers with over 2500 attendees\, 1200 executives\, 400 investors\, and 100 exhibitors. With startup founders at its heart\, this conference offers limitless opportunities for collaboration. \nExperience thought-provoking discussions\, revolutionary technology demonstrations\, and inspiring ideas around healthcare innovation. \nAttendees can expect to find investors\, create more brand awareness\, expand their network\, build long-lasting relationships\, and gain inspiration from other founders.
URL:https://gdhub.org/event/bits-pretzels-healthtech-conference/
LOCATION:International Congress Center Messe\, Munich\, Germany
CATEGORIES:In-Person
ATTACH;FMTTYPE=image/png:https://gdhub.org/wp-content/uploads/2024/01/Screenshot-2024-01-12-at-14.16.55.png
END:VEVENT
END:VCALENDAR