BEGIN:VCALENDAR
VERSION:2.0
PRODID:-//gdhub - ECPv6.3.4//NONSGML v1.0//EN
CALSCALE:GREGORIAN
METHOD:PUBLISH
X-WR-CALNAME:gdhub
X-ORIGINAL-URL:https://gdhub.org
X-WR-CALDESC:Events for gdhub
REFRESH-INTERVAL;VALUE=DURATION:PT1H
X-Robots-Tag:noindex
X-PUBLISHED-TTL:PT1H
BEGIN:VTIMEZONE
TZID:Europe/Paris
BEGIN:DAYLIGHT
TZOFFSETFROM:+0100
TZOFFSETTO:+0200
TZNAME:CEST
DTSTART:20240331T010000
END:DAYLIGHT
BEGIN:STANDARD
TZOFFSETFROM:+0200
TZOFFSETTO:+0100
TZNAME:CET
DTSTART:20241027T010000
END:STANDARD
END:VTIMEZONE
BEGIN:VEVENT
DTSTART;VALUE=DATE:20240625
DTEND;VALUE=DATE:20240627
DTSTAMP:20260425T172529
CREATED:20240110T074451Z
LAST-MODIFIED:20240110T145227Z
UID:32360-1719273600-1719446399@gdhub.org
SUMMARY:Université de la e-santé
DESCRIPTION:Conçue et portée Par Castres-Mazamet Technopole\nDepuis 2007\, chaque année\, le monde de la santé et de l’innovation se donne rendez-vous à Castres-Mazamet pour 2 jours d’immersion en e-santé.\nEspace de rencontres transdisciplinaires\, des télécoms aux patients\, en passant par le big data\, le financement et la réglementation sans oublier les établissements et professionnels de santé\, l’Université de la e-santé fêtera cette année\, la 18e édition de son Summer Camp les 25 et 26 juin 2024 !
URL:https://gdhub.org/event/universite-de-la-e-sante/
LOCATION:CCI\, Castres\, France
CATEGORIES:In-Person
ATTACH;FMTTYPE=image/jpeg:https://gdhub.org/wp-content/uploads/2024/01/telechargement.jpeg
END:VEVENT
END:VCALENDAR