BEGIN:VCALENDAR
VERSION:2.0
PRODID:-//gdhub - ECPv6.3.4//NONSGML v1.0//EN
CALSCALE:GREGORIAN
METHOD:PUBLISH
X-ORIGINAL-URL:https://gdhub.org
X-WR-CALDESC:Events for gdhub
REFRESH-INTERVAL;VALUE=DURATION:PT1H
X-Robots-Tag:noindex
X-PUBLISHED-TTL:PT1H
BEGIN:VTIMEZONE
TZID:Europe/Paris
BEGIN:DAYLIGHT
TZOFFSETFROM:+0100
TZOFFSETTO:+0200
TZNAME:CEST
DTSTART:20240331T010000
END:DAYLIGHT
BEGIN:STANDARD
TZOFFSETFROM:+0200
TZOFFSETTO:+0100
TZNAME:CET
DTSTART:20241027T010000
END:STANDARD
END:VTIMEZONE
BEGIN:VEVENT
DTSTART;VALUE=DATE:20240801
DTEND;VALUE=DATE:20240802
DTSTAMP:20260425T133012
CREATED:20240112T132806Z
LAST-MODIFIED:20240112T132806Z
UID:32463-1722470400-1722556799@gdhub.org
SUMMARY:HealthTech Forum
DESCRIPTION:The HealthTech Forum joins together leaders and key decision-makers with a focus on driving patient-centered innovation and addressing concerns over reliability and data security. \nAttendees can expect to find national and global business leaders\, innovators\, and medical professionals. Walk away with a clear understanding of the digital forces that are shaping the healthcare landscape and be part of shaping the strategy for the future. \nWith over 20 industry speakers\, 15 insightful sessions\, and 150 healthcare executives\, the agenda for this full-day event is packed with value.
URL:https://gdhub.org/event/healthtech-forum/
LOCATION:Swissotel\, Sydney\, Australia
CATEGORIES:In-Person
ATTACH;FMTTYPE=image/png:https://gdhub.org/wp-content/uploads/2024/01/Screenshot-2024-01-12-at-14.22.01.png
END:VEVENT
END:VCALENDAR